BEGIN:VCALENDAR
VERSION:2.0
PRODID:-//eventon.com NONSGML v1.0//EN
CALSCALE:GREGORIAN
METHOD:PUBLISH
BEGIN:VEVENT
UID:69ed60d3086cf
DTSTAMP:20260426T004819Z
DTSTART:20240628T080000Z
DTEND:20240630T160000Z
LOCATION:Gartenfestival Lebenslust in Hardegsen Wildpark Hardegsen\,  Ertinghäuser Str. 4\,  37181 Hardegsen
SUMMARY:Gartenfestival Lebenslust in Hardegsen
DESCRIPTION:\nhttps://almgold.de/veranstaltungskalende/gartenfestival-leben
 slust-in-hardegsen/
URL:https://almgold.de/veranstaltungskalende/gartenfestival-lebenslust-in-hardegsen/
END:VEVENT
END:VCALENDAR