BEGIN:VCALENDAR
VERSION:2.0
PRODID:-//eventon.com NONSGML v1.0//EN
CALSCALE:GREGORIAN
METHOD:PUBLISH
BEGIN:VEVENT
UID:69ea98237da64
DTSTAMP:20260423T220731Z
DTSTART:20250322T100000Z
DTEND:20250323T170000Z
LOCATION:2T Event Location Bismarckstraße 1\,  51789 Lindlar
SUMMARY:Frühlingszauber Lindlar
DESCRIPTION:Kunsthandwerk und Genuss in Lindlar\nhttps://almgold.de/veranst
 altungskalende/fruehlingszauber-lindlar/
URL:https://almgold.de/veranstaltungskalende/fruehlingszauber-lindlar/
END:VEVENT
END:VCALENDAR